BEGIN:VCALENDAR
VERSION:2.0
PRODID:-//eventon.com NONSGML v1.0//EN
CALSCALE:GREGORIAN
METHOD:PUBLISH
BEGIN:VEVENT
UID:69e4e8f6d2b53
DTSTAMP:20260419T143846Z
DTSTART:20210605T060000Z
DTEND:20210605T215000Z
LOCATION:Netzwerk43 Segeten Segeten 43\,  79733 Görwihl
SUMMARY:Gebet Segeten
DESCRIPTION:Gebet Segeten\nhttps://netzwerk43.de/events/gebet-segeten-28/
URL:https://netzwerk43.de/events/gebet-segeten-28/
END:VEVENT
END:VCALENDAR