BEGIN:VCALENDAR
VERSION:2.0
PRODID:-//eventon.com NONSGML v1.0//EN
CALSCALE:GREGORIAN
METHOD:PUBLISH
BEGIN:VEVENT
UID:69e5e7c09739b
DTSTAMP:20260420T084552Z
DTSTART:20210310T163000Z
DTEND:20210310T225000Z
LOCATION:Netzwerk43 Segeten Segeten 43\,  79733 Görwihl
SUMMARY:TeenZone Online
DESCRIPTION:Klasse 5-8 Be part of the next Generation! Als TeenZone treffen
  wir uns zwei mal im Monat. Neue Freunde\,  coole Games\,  einzigartige Sti
 mmung und eine packende Message erwarten dich.\nhttps://netzwerk43.de/event
 s/teenzone-online-5/
URL:https://netzwerk43.de/events/teenzone-online-5/
END:VEVENT
END:VCALENDAR