BEGIN:VCALENDAR
VERSION:2.0
PRODID:-//eventon.com NONSGML v1.0//EN
CALSCALE:GREGORIAN
METHOD:PUBLISH
BEGIN:VEVENT
UID:69e4c2a998625
DTSTAMP:20260419T115521Z
DTSTART:20200119T183000Z
DTEND:20200119T193000Z
LOCATION:Ali Theater Tiengen Marktplatz 17\,  79761 Tiengen
SUMMARY:Kleingruppen Training Tiengen
DESCRIPTION:Unsere Kleingruppen sind ein Ort echter Freundschaft\,  wo wir 
 unser Leben miteinander teilen\,  Befreiung finden und Gemeinsam vorangehen
 . Egal wie alt du bist\,  welche Interessen du hast\,  in welchem Lebensabs
 chnitt du dich befindest oder wo du wohnst\,  es gibt eine Kleingruppe\,  d
 ie genau zu dir passt.\nhttps://netzwerk43.de/events/kleingruppen-training-
 tiengen/
URL:https://netzwerk43.de/events/kleingruppen-training-tiengen/
END:VEVENT
END:VCALENDAR