BEGIN:VCALENDAR
VERSION:2.0
PRODID:-//eventon.com NONSGML v1.0//EN
CALSCALE:GREGORIAN
METHOD:PUBLISH
BEGIN:VEVENT
UID:69e74ac14e186
DTSTAMP:20260421T100033Z
DTSTART:20200126T170000Z
DTEND:20200126T183000Z
LOCATION:Ali Theater Tiengen Marktplatz 17\,  79761 Tiengen
SUMMARY:Gottesdienst Tiengen
DESCRIPTION:Tiengen 17:00 Uhr Unwiderstehliche Kirche braucht attraktive Go
 ttesdienste. Unser Ziel ist es\,  die Celebrations als Highlight der Woche 
 zu gestalten. Hier kannst du in einer angenehmen Atmosphäre Gott erleben\,
   neue Orientierung für dein Leben bekommen und mit anderen Leuten connect
 en.\nhttps://netzwerk43.de/events/gottesdienst-tiengen-14/
URL:https://netzwerk43.de/events/gottesdienst-tiengen-14/
END:VEVENT
END:VCALENDAR