BEGIN:VCALENDAR
VERSION:2.0
PRODID:-//eventon.com NONSGML v1.0//EN
CALSCALE:GREGORIAN
METHOD:PUBLISH
BEGIN:VEVENT
UID:69e4d0b8b2371
DTSTAMP:20260419T125520Z
DTSTART:20190908T120000Z
DTEND:20190908T130000Z
LOCATION:Netzwerk43 Todtnau Schwarzwaldstraße 15\,  79674 Todtnau
SUMMARY:Kleingruppen Connect Party - Todtnau
DESCRIPTION:Kleingruppen Connect Party - Todtnau\nhttps://netzwerk43.de/eve
 nts/kleingruppen-connect-party-todtnau/
URL:https://netzwerk43.de/events/kleingruppen-connect-party-todtnau/
END:VEVENT
END:VCALENDAR