BEGIN:VCALENDAR
VERSION:2.0
PRODID:-//eventon.com NONSGML v1.0//EN
CALSCALE:GREGORIAN
METHOD:PUBLISH
BEGIN:VEVENT
UID:69e74cfc9988e
DTSTAMP:20260421T101004Z
DTSTART:20190917T183000Z
DTEND:20190917T193000Z
LOCATION:Netzwerk43 Segeten Segeten 43\,  79733 Görwihl
SUMMARY:Kleingruppen Connect Party - Segeten
DESCRIPTION:Kleingruppen Connect Party - Segeten\nhttps://netzwerk43.de/eve
 nts/kleingruppen-connect-party-segeten-5/
URL:https://netzwerk43.de/events/kleingruppen-connect-party-segeten-5/
END:VEVENT
END:VCALENDAR