BEGIN:VCALENDAR
VERSION:2.0
PRODID:-//eventon.com NONSGML v1.0//EN
CALSCALE:GREGORIAN
METHOD:PUBLISH
BEGIN:VEVENT
UID:69e5e8a973bee
DTSTAMP:20260420T084945Z
DTSTART:20180914T200000Z
DTEND:20180914T230000Z
LOCATION:Netzwerk43 Segeten Segeten 43\,  79733 Görwihl
SUMMARY:Motion Night
DESCRIPTION:Eine packende Celebration mit Musik\,  Games\,  Fun\,  Food &am
 p; einer Message! Don't miss it! *uTurn (15-22 years) only\nhttps://netzwer
 k43.de/events/motion-night-26/
URL:https://netzwerk43.de/events/motion-night-26/
END:VEVENT
END:VCALENDAR