BEGIN:VCALENDAR
VERSION:2.0
PRODID:-//eventon.com NONSGML v1.0//EN
CALSCALE:GREGORIAN
METHOD:PUBLISH
BEGIN:VEVENT
UID:69e88f7f6299d
DTSTAMP:20260422T090607Z
DTSTART:20171224T170000Z
DTEND:20171224T190000Z
LOCATION:Netzwerk43 Segeten Segeten 43\,  79733 Görwihl
SUMMARY:Weihnachten Segeten
DESCRIPTION:Ticket Reservieren\nhttps://netzwerk43.de/events/weihnachten-se
 geten-5/
URL:https://netzwerk43.de/events/weihnachten-segeten-5/
END:VEVENT
END:VCALENDAR