BEGIN:VCALENDAR
VERSION:2.0
PRODID:-//eventon.com NONSGML v1.0//EN
CALSCALE:GREGORIAN
METHOD:PUBLISH
BEGIN:VEVENT
UID:69e5e7aaf03c7
DTSTAMP:20260420T084530Z
DTSTART:20150716T060000Z
DTEND:20150716T070000Z
LOCATION:Netzwerk43 Segeten Segeten 43\,  79733 Görwihl
SUMMARY:Frühgebet
DESCRIPTION:Frühgebet\nhttps://netzwerk43.de/events/fruehgebet-6/
URL:https://netzwerk43.de/events/fruehgebet-6/
END:VEVENT
END:VCALENDAR