BEGIN:VCALENDAR
VERSION:2.0
PRODID:-//eventon.com NONSGML v1.0//EN
CALSCALE:GREGORIAN
METHOD:PUBLISH
BEGIN:VEVENT
UID:69e73bdb06c92
DTSTAMP:20260421T085659Z
DTSTART:20250105T090000Z
DTEND:20250105T103000Z
LOCATION:Netzwerk43 Todtnau Schwarzwaldstraße 15\,  79674 Todtnau
SUMMARY:CELEBRATION Todtnau 10 Uhr
DESCRIPTION:Komm wie du bist - wir freuen uns auf dich!\nhttps://netzwerk43
 .de/events/celebration-todtnau-10-uhr-3/
URL:https://netzwerk43.de/events/celebration-todtnau-10-uhr-3/
END:VEVENT
END:VCALENDAR