BEGIN:VCALENDAR
VERSION:2.0
PRODID:-//eventon.com NONSGML v1.0//EN
CALSCALE:GREGORIAN
METHOD:PUBLISH
BEGIN:VEVENT
UID:69e7375c4c3f2
DTSTAMP:20260421T083748Z
DTSTART:20240721T073000Z
DTEND:20240721T110000Z
LOCATION:Netzwerk43 Segeten Segeten 43\,  79733 Görwihl
SUMMARY:CELEBRATION Segeten 09:30 & 11:15 Uhr
DESCRIPTION:Komm wie du bist - wir freuen uns auf dich!\nhttps://netzwerk43
 .de/events/celebration-segeten-0930-1115-uhr/var/ri-2.l-L1
URL:https://netzwerk43.de/events/celebration-segeten-0930-1115-uhr/var/ri-2.l-L1
END:VEVENT
END:VCALENDAR